BEGIN:VCALENDAR
VERSION:2.0
PRODID:-//The Ford Mk11 Consul Zephyr Zodiac Owners Club - ECPv6.15.20//NONSGML v1.0//EN
CALSCALE:GREGORIAN
METHOD:PUBLISH
X-WR-CALNAME:The Ford Mk11 Consul Zephyr Zodiac Owners Club
X-ORIGINAL-URL:https://mk11consulzephyrzodiacownersclub.com
X-WR-CALDESC:Events for The Ford Mk11 Consul Zephyr Zodiac Owners Club
REFRESH-INTERVAL;VALUE=DURATION:PT1H
X-Robots-Tag:noindex
X-PUBLISHED-TTL:PT1H
BEGIN:VTIMEZONE
TZID:Europe/London
BEGIN:DAYLIGHT
TZOFFSETFROM:+0000
TZOFFSETTO:+0100
TZNAME:BST
DTSTART:20230326T010000
END:DAYLIGHT
BEGIN:STANDARD
TZOFFSETFROM:+0100
TZOFFSETTO:+0000
TZNAME:GMT
DTSTART:20231029T010000
END:STANDARD
BEGIN:DAYLIGHT
TZOFFSETFROM:+0000
TZOFFSETTO:+0100
TZNAME:BST
DTSTART:20240331T010000
END:DAYLIGHT
BEGIN:STANDARD
TZOFFSETFROM:+0100
TZOFFSETTO:+0000
TZNAME:GMT
DTSTART:20241027T010000
END:STANDARD
BEGIN:DAYLIGHT
TZOFFSETFROM:+0000
TZOFFSETTO:+0100
TZNAME:BST
DTSTART:20250330T010000
END:DAYLIGHT
BEGIN:STANDARD
TZOFFSETFROM:+0100
TZOFFSETTO:+0000
TZNAME:GMT
DTSTART:20251026T010000
END:STANDARD
BEGIN:DAYLIGHT
TZOFFSETFROM:+0000
TZOFFSETTO:+0100
TZNAME:BST
DTSTART:20260329T010000
END:DAYLIGHT
BEGIN:STANDARD
TZOFFSETFROM:+0100
TZOFFSETTO:+0000
TZNAME:GMT
DTSTART:20261025T010000
END:STANDARD
END:VTIMEZONE
BEGIN:VEVENT
DTSTART;VALUE=DATE:20250711
DTEND;VALUE=DATE:20250714
DTSTAMP:20260423T160738
CREATED:20230319T044500Z
LAST-MODIFIED:20250616T210915Z
UID:6807-1752192000-1752451199@mk11consulzephyrzodiacownersclub.com
SUMMARY:National MkII Weekender
DESCRIPTION:Our Main National Club Members Show!!\n  \nMkII Consul Zephyr Zodiac Club Members\, if you have not been before\, it’s a fabulous weekend of Cars\, Characters and Entertainment. It is a great campsite so PLEASE BOOK CAMPING NOW through the Club as spaces fill up quickly.\nYou will be free to organise your own get togethers with friends in the Local Pub as it gives us more flexibility.\nOn Saturday everyone is left to enjoy the company of other Club Members or simply go for a drive down the many Country Lanes\, there are plenty of small towns and quaint shopping.\nSaturday night\, Band\nPlease contact the relevant Spares People for any parts you require to ensure they can bring them along on the weekend. Members can also bring their own wares to sell. \nPlease ensure you make your payments and bookings with the Club. Contact Mick as below \n 
URL:https://mk11consulzephyrzodiacownersclub.com/event/national-mkii-weekender/
LOCATION:Top End Farm\, Top End Farm\, Little Staughton\, Bedford\, MK44 2BY\, United Kingdom
ORGANIZER;CN="Mick Taylor":MAILTO:mickfury69@ntlworld.com
END:VEVENT
BEGIN:VEVENT
DTSTART;VALUE=DATE:20241108
DTEND;VALUE=DATE:20241111
DTSTAMP:20260423T160738
CREATED:20241008T234840Z
LAST-MODIFIED:20241008T235512Z
UID:6697-1731024000-1731283199@mk11consulzephyrzodiacownersclub.com
SUMMARY:NEC Classic Motor Show
DESCRIPTION:THE UK’S LARGEST & BEST-LOVED CLASSIC MOTOR SHOW\nNEC\, Birmingham \n\n\nJoin a record 330+ clubs\, as well as 350+ traders (including the UK’s biggest indoor autojumble) and over 3\,000 motors on display – the most at any event in the UK – indoors and outdoors. This year marks the 40th Anniversary of The Lancaster Insurance Classic Motor Show and to celebrate we have some exciting new highlights planned. All will be revealed before too long\, so keep your eyes peeled on this space. \nIndulge your passion for classic vehicles at the ultimate season finale – whether you’re a classic car/bike owner\, collector\, enthusiast\, club member\, or simply someone with a love for timeless automobiles! \nIt’s more than just a display of classics! You can purchase your next classic at the show from over 500 vehicles for sale\, hear the latest from your favourite motoring celebrities\, explore the autojumble for elusive pieces or find parts and tools for maintenance and restoration from numerous specialist traders. \n\n  \n 
URL:https://mk11consulzephyrzodiacownersclub.com/event/nec-classic-motor-show/
LOCATION:NEC Classic\, North Ave\, Birmingham\, B40 1NT\, United Kingdom
ORGANIZER;CN="Mick Taylor":MAILTO:mickfury69@ntlworld.com
END:VEVENT
BEGIN:VEVENT
DTSTART;VALUE=DATE:20240921
DTEND;VALUE=DATE:20240923
DTSTAMP:20260423T160738
CREATED:20230319T062227Z
LAST-MODIFIED:20240511T222232Z
UID:6816-1726876800-1727049599@mk11consulzephyrzodiacownersclub.com
SUMMARY:Sywell Classic Pistons and Props
DESCRIPTION:  \nCombining historic racers\, hot rods and motorbikes with classic planes and vintage music to create a fantastic two-day event\, celebrating classic motoring on the ground and in the air. \nWatch amazing live action on the transformed ‘Racing Runway’ and ‘Sprint Strip’ with iconic Formula 1 cars\, Hot Rods\, Dragsters and Motorcycles all in action throughout the weekend. Up in the skies; expect to see a variety of breath taking aerial displays & acrobatics from a variety of display teams. With a vintage fun fair and shopping village\, make a weekend of it as camping packages are available. \nIt’s a great weekend for all the family. \n 
URL:https://mk11consulzephyrzodiacownersclub.com/event/sywell-classic-pistons-and-props/
LOCATION:Sywell Classics\, Sywell Aerodrome\, Sywell\, Northhamptonshire\, NN6 0BN\, United Kingdom
END:VEVENT
BEGIN:VEVENT
DTSTART;VALUE=DATE:20240712
DTEND;VALUE=DATE:20240715
DTSTAMP:20260423T160738
CREATED:20240510T220915Z
LAST-MODIFIED:20240611T223627Z
UID:7224-1720742400-1721001599@mk11consulzephyrzodiacownersclub.com
SUMMARY:Mk11 Club National Show
DESCRIPTION:National Mk11 Weekender \n  \nTo book a camping space\, contact event organiser as below. Spaces fill up quickly in our field so if you leave it too late you may have to camp in the main field. \nSATURDAY\nAs usual a day for doing your own thing\, or just catching up with everybody. In the evening we are having a Band and Disco again. \nSUNDAY\nShow and Shine Day / Trophies / Raffle. \nClub Committee AGM to be held
URL:https://mk11consulzephyrzodiacownersclub.com/event/mk11-club-national-show-2/
LOCATION:MKII Club National Show\, Top End Farm Colmworth Road\, Little Staughton\, MK44 2BY\, United Kingdom
ORGANIZER;CN="Mick Taylor":MAILTO:mickfury69@ntlworld.com
END:VEVENT
BEGIN:VEVENT
DTSTART;VALUE=DATE:20240526
DTEND;VALUE=DATE:20240527
DTSTAMP:20260423T160738
CREATED:20230319T042311Z
LAST-MODIFIED:20240511T222339Z
UID:6794-1716681600-1716767999@mk11consulzephyrzodiacownersclub.com
SUMMARY:Sandingham Pageant of Motoring
DESCRIPTION:  \n\n\n\nJoin us at the Sandringham Pageant of Motoring 2024\n\n\nSpitfire Flypast\, Royal Vehicles\, Live Music & so much more…!\n\n\nThe Pageant of Motoring returns to The Royal Parkland at Sandringham on Sunday 26th May for the ultimate celebration in vintage motoring. With so much to see and do\, it makes the perfect family day out.\n\n\n\nWhat’s On?\n\n\nBattle of Britain Memorial Flypast featuring 2 Supermarine Spitfires\nHundreds of Classic Vehicles\nVintage Club Displays\nLive Musical Acts\nCraft & Vintage Fair\nCulinary Delights\nFamily Fun & Children’s Entertainment\nand so much more…\n\n\nIn the Royal gardens\, the prestigious Aston Martin Owners Concours d’elegance will unfold\, and the public will have a rare opportunity to view a selection of Royal Vehicles not often seen.\n\n\nFor more information and to book your tickets visit www.sandringhammotoringpageant.co.uk\n\n\n\n 
URL:https://mk11consulzephyrzodiacownersclub.com/event/sandingham-pageant-of-motoring/
LOCATION:Sandingham\, Sandingham Estate\, Sandingham\, Norfolk\, PE35 6EN\, United Kingdom
END:VEVENT
BEGIN:VEVENT
DTSTART;TZID=Europe/London:20240519T100000
DTEND;TZID=Europe/London:20240519T160000
DTSTAMP:20260423T160738
CREATED:20230319T030721Z
LAST-MODIFIED:20240511T214243Z
UID:6777-1716112800-1716134400@mk11consulzephyrzodiacownersclub.com
SUMMARY:Classic Wheels
DESCRIPTION:  \nC \nRutland Showground will host its fourth Classic Wheels. If\, like us\, you can’t wait to get out and about in your pride and joy – take a ride out to Rutland this spring for an unforgettable day of motoring. \nMore than 1000 classic vehicles were on display in 2023 alongside Autojumble stands\, Food & Craft stalls\, Live music\, Children’s Entertainment and Club displays. \nDay tickets are just £10* and Children under 12 are free. Car Parking is Free. \nTurn up in a classic (pre 1990) and park up in Pole Position located within the show. Includes entry for the driver and your parking space in the heart of the show. See private entries & bike entries below. \nExpect to see hundreds of classic\, rare and retro cars\, bikes and commercials alongside markets stands and club displays! \n 
URL:https://mk11consulzephyrzodiacownersclub.com/event/classic-wheels/
LOCATION:Classic Wheels\, Showground Way\, Oakham\, Leicetershire\, LE15 7TW\, United Kingdom
END:VEVENT
BEGIN:VEVENT
DTSTART;TZID=Europe/London:20240505T090000
DTEND;TZID=Europe/London:20240505T153000
DTSTAMP:20260423T160738
CREATED:20240131T113551Z
LAST-MODIFIED:20240131T114210Z
UID:7179-1714899600-1714923000@mk11consulzephyrzodiacownersclub.com
SUMMARY:2024 Club Spring Meet\, West Malling
DESCRIPTION:2024 Club Spring Meet\, West Malling Village Hall\n\n \n  \nThe first gathering of the year – MK11 Owners Club Spring Meet is on once again at West Malling Village Hall and Playing Fields (weather permitting).  This meet is more of a social gathering for our members to get together and display their vehicles.  If you have spares for sale please feel free bring them along.\nThis meet is also open to other Classic Car Club  Members so come along for a chat and a cup of tea/coffee.  We will have hot refreshments available for you in the hall\, so please support your club.\nKen will be bringing along his Club Spares so if there is anything you particularly want give him a ring to ensure he brings it with him\, otherwise he will have a small selection only available.  Pauline will also be there with her Regalia and David with the Chrome Spares.\nWe will also have the usual Club Raffle\, please give generously. \nIf you need directions or confirmation this show is going ahead due to weather conditions – Contact info below \nYou are more than welcome to come along even if you are not a member
URL:https://mk11consulzephyrzodiacownersclub.com/event/7179/
LOCATION:Mk11 Club Spring Meet\, West Malling Village Hall\, West Malling\, Kent\, ME19 6RW\, United Kingdom
ORGANIZER;CN="Ken Paul":MAILTO:Margaret_paul@talktalk.net
END:VEVENT
END:VCALENDAR